BEGIN:VCALENDAR
VERSION:2.0
PRODID:-//Woore Parish Council//Meeting Calendar//EN
CALSCALE:GREGORIAN
METHOD:PUBLISH
BEGIN:VEVENT
UID:70612-20220101@wooreparishcouncil.gov.uk
DTSTAMP:20260421T172154Z
DTSTART;VALUE=DATE:20220101
DTEND;VALUE=DATE:20220102
SUMMARY:Council Meetings &#8211\\; 2022
DESCRIPTION:Full Council Meeting\nView details: https://wooreparishcouncil.gov.uk/meetings/council-meetings-2022/
URL:https://wooreparishcouncil.gov.uk/meetings/council-meetings-2022/
END:VEVENT
END:VCALENDAR
