BEGIN:VCALENDAR
VERSION:2.0
PRODID:-//Woore Parish Council//Meeting Calendar//EN
CALSCALE:GREGORIAN
METHOD:PUBLISH
BEGIN:VEVENT
UID:70640-20210101@wooreparishcouncil.gov.uk
DTSTAMP:20260421T153407Z
DTSTART;VALUE=DATE:20210101
DTEND;VALUE=DATE:20210102
SUMMARY:Council Meetings &#8211\\; 2021
DESCRIPTION:Full Council Meeting\nView details: https://wooreparishcouncil.gov.uk/meetings/council-meetings-2021/
URL:https://wooreparishcouncil.gov.uk/meetings/council-meetings-2021/
END:VEVENT
END:VCALENDAR
