BEGIN:VCALENDAR
VERSION:2.0
PRODID:-//Woore Parish Council//Meeting Calendar//EN
CALSCALE:GREGORIAN
METHOD:PUBLISH
BEGIN:VEVENT
UID:70671-20210517@wooreparishcouncil.gov.uk
DTSTAMP:20260421T171913Z
DTSTART;VALUE=DATE:20210517
DTEND;VALUE=DATE:20210518
SUMMARY:Annual Meeting &#8211\\; 17 May 2021
DESCRIPTION:Annual Parish Meeting\nView details: https://wooreparishcouncil.gov.uk/meetings/annual-meeting-17-may-2021/
URL:https://wooreparishcouncil.gov.uk/meetings/annual-meeting-17-may-2021/
END:VEVENT
END:VCALENDAR
