BEGIN:VCALENDAR
VERSION:2.0
PRODID:-//Woore Parish Council//Meeting Calendar//EN
CALSCALE:GREGORIAN
METHOD:PUBLISH
BEGIN:VEVENT
UID:70673-20210509@wooreparishcouncil.gov.uk
DTSTAMP:20260421T153253Z
DTSTART;VALUE=DATE:20210509
DTEND;VALUE=DATE:20210510
SUMMARY:Annual Meeting &#8211\\; 9 May 2022
DESCRIPTION:Annual Parish Meeting\nView details: https://wooreparishcouncil.gov.uk/meetings/annual-meeting-9-may-2022/
URL:https://wooreparishcouncil.gov.uk/meetings/annual-meeting-9-may-2022/
END:VEVENT
END:VCALENDAR
