BEGIN:VCALENDAR
VERSION:2.0
PRODID:-//Woore Parish Council//Meeting Calendar//EN
CALSCALE:GREGORIAN
METHOD:PUBLISH
BEGIN:VEVENT
UID:70703-20250210@wooreparishcouncil.gov.uk
DTSTAMP:20260421T203308Z
DTSTART;VALUE=DATE:20250210
DTEND;VALUE=DATE:20250211
SUMMARY:Council Meeting &#8211\\; 10 February 2025
DESCRIPTION:Full Council Meeting\nView details: https://wooreparishcouncil.gov.uk/meetings/council-meeting-10-february-2025/
URL:https://wooreparishcouncil.gov.uk/meetings/council-meeting-10-february-2025/
END:VEVENT
END:VCALENDAR
