BEGIN:VCALENDAR
VERSION:2.0
PRODID:-//Woore Parish Council//Meeting Calendar//EN
CALSCALE:GREGORIAN
METHOD:PUBLISH
BEGIN:VEVENT
UID:70706-20250113@wooreparishcouncil.gov.uk
DTSTAMP:20260421T190034Z
DTSTART;VALUE=DATE:20250113
DTEND;VALUE=DATE:20250114
SUMMARY:Council Meeting &#8211\\; 13 January 2025
DESCRIPTION:Full Council Meeting\nView details: https://wooreparishcouncil.gov.uk/meetings/council-meeting-13-january-2025/
URL:https://wooreparishcouncil.gov.uk/meetings/council-meeting-13-january-2025/
END:VEVENT
END:VCALENDAR
