BEGIN:VCALENDAR
VERSION:2.0
PRODID:-//Woore Parish Council//Meeting Calendar//EN
CALSCALE:GREGORIAN
METHOD:PUBLISH
BEGIN:VEVENT
UID:71119-20260713@wooreparishcouncil.gov.uk
DTSTAMP:20260421T135521Z
DTSTART;VALUE=DATE:20260713
DTEND;VALUE=DATE:20260714
SUMMARY:Council Meeting &#8211\\; 13th July 2026
DESCRIPTION:Full Council Meeting\nView details: https://wooreparishcouncil.gov.uk/meetings/council-meeting-13th-july-2026/
URL:https://wooreparishcouncil.gov.uk/meetings/council-meeting-13th-july-2026/
END:VEVENT
END:VCALENDAR
